BEGIN:VCALENDAR
PRODID:-//Microsoft Corporation//Outlook MIMEDIR//EN
VERSION:2.0
METHOD:PUBLISH
BEGIN:VEVENT
DTSTART:20260520T190000
DTEND:20260520T200000
DESCRIPTION:This is a Preliminary Docket and is subject to change at any time.
LOCATION:4850 Mark Center Drive, Alexandria Va 22311
SUMMARY:Board of Architectural Review Public Hearing
CATEGORIES:MEETING
END:VEVENT
END:VCALENDAR
